BEGIN:VCALENDAR
VERSION:2.0
PRODID:-//Support Center - ECPv6.15.20//NONSGML v1.0//EN
CALSCALE:GREGORIAN
METHOD:PUBLISH
X-WR-CALNAME:Support Center
X-ORIGINAL-URL:https://supportcenteronline.org
X-WR-CALDESC:Events for Support Center
REFRESH-INTERVAL;VALUE=DURATION:PT1H
X-Robots-Tag:noindex
X-PUBLISHED-TTL:PT1H
BEGIN:VTIMEZONE
TZID:America/New_York
BEGIN:DAYLIGHT
TZOFFSETFROM:-0500
TZOFFSETTO:-0400
TZNAME:EDT
DTSTART:20240310T070000
END:DAYLIGHT
BEGIN:STANDARD
TZOFFSETFROM:-0400
TZOFFSETTO:-0500
TZNAME:EST
DTSTART:20241103T060000
END:STANDARD
BEGIN:DAYLIGHT
TZOFFSETFROM:-0500
TZOFFSETTO:-0400
TZNAME:EDT
DTSTART:20250309T070000
END:DAYLIGHT
BEGIN:STANDARD
TZOFFSETFROM:-0400
TZOFFSETTO:-0500
TZNAME:EST
DTSTART:20251102T060000
END:STANDARD
BEGIN:DAYLIGHT
TZOFFSETFROM:-0500
TZOFFSETTO:-0400
TZNAME:EDT
DTSTART:20260308T070000
END:DAYLIGHT
BEGIN:STANDARD
TZOFFSETFROM:-0400
TZOFFSETTO:-0500
TZNAME:EST
DTSTART:20261101T060000
END:STANDARD
END:VTIMEZONE
BEGIN:VEVENT
DTSTART;TZID=America/New_York:20250507T130000
DTEND;TZID=America/New_York:20250507T150000
DTSTAMP:20260421T082955
CREATED:20250307T183904Z
LAST-MODIFIED:20250325T170420Z
UID:7361-1746622800-1746630000@supportcenteronline.org
SUMMARY:Meetings that Work: How to Prepare\, Run\, and Deliver Effective Meetings
DESCRIPTION:Description:\nYou know that feeling when you sat through a meeting that should have been an email? This hands-on workshop is designed to help you turn every meeting into a productive\, impactful experience. \nWe’ll show you how to prepare like a pro\, lead with confidence\, and follow up with purpose so your meetings drive action and leave everyone feeling energized. From crafting agendas that matter to managing time effectively and ensuring clear next steps\, you’ll walk away with tools you can implement immediately. \nLearn more about our certificate programs! \nFacilitator:\n \nMelissa Shillingford is the visionary founder of Make Ideas Work\, a boutique consulting company dedicated to empowering organizations committed to positive social change through human-centered management training and capacity-building services. With over a decade designing\, managing\, and facilitating cohort-based programs\, Melissa has an acute ability to inspire and elevate teams. Her passion lies in supporting organizations with ambitious goals and helping staff reach them work smarter\, not harder. As a certified Wiley DiSC Authorized Partner\, Melissa deeply understands team dynamics and communication strategies. Her academic background includes a Project Management Certificate from CUNY Baruch\, a joint Masters in Human and Community Development and Urban Planning for Social Justice from the University of Illinois at Urbana-Champaign\, and studies in Deviant Behavior and Social Control at CUNY John Jay College\, where she also earned a certificate in Dispute Resolution. Melissa’s dedication to social change\, combined with her vast experience and expertise\, makes her a powerful ally for organizations looking to make a lasting impact. \n\n\nWe request that organizations limit their registrations to 5 participants per workshop. Please only register other people when you can provide the requested information for each participant; additional registrations under the same name will be removed. If you would like more than 5 employees from your organization to participate in this workshop\, please email wo*******@*****************ne.org\n\n\nREGISTER HERE\n \n\n\nRegistration is required. Please be advised that by registering for this event\, unless we hear from you otherwise\, we will include you as part of our regular electronic mailing list. Please also be advised that the event may be recorded or photographed by Support Center for Nonprofit Management (Support Center). By enrolling for this event\, you hereby: (1) give consent for Support Center or any third parties to use your photograph or image in its print\, online and video publications; (2) release Support Center\, its employees and any outside third parties from all liabilities or claims that you might assert in connection with the above-described uses; and (3) waive any right to inspect\, approve or receive compensation for any materials or communications\, including photographs\, videotapes\, website images or written materials\, incorporating photos/images of you. To revoke this waiver\, please email wo*******@*****************ne.org.
URL:https://supportcenteronline.org/event/meetings-that-work-how-to-prepare-run-and-deliver-effective-meetings/
LOCATION:WEBINAR
CATEGORIES:Webinar,Workshops & Events
END:VEVENT
BEGIN:VEVENT
DTSTART;TZID=America/New_York:20250513T130000
DTEND;TZID=America/New_York:20250527T150000
DTSTAMP:20260421T082955
CREATED:20250401T162519Z
LAST-MODIFIED:20250401T164749Z
UID:7426-1747141200-1748358000@supportcenteronline.org
SUMMARY:Supervisory Essentials: Managing People and Leading Teams
DESCRIPTION:3-Part Webinar ( Attendance to all three workshops encouraged) \nCertificate Program: Executive Leadership; Leadership & Supervision\nDescription:\nIs there a difference between the skills and qualities that earned you the manager role and those that will help you effectively lead your team? Many leaders and managers supervise staff by the seat of their pants or based on the management styles and characteristics of leaders they admire or based on what they did not like in their own supervision. \nThrough discussions\, case studies\, and interactive activities\, you will learn skills and techniques to match your leadership style to the needs and behaviors of your team\, promote success\, and build a team culture of collaboration\, empowerment\, and trust. Now offered as a three-part series of three 90 minute sessions\, this training will also touch upon supervision with an equity and inclusion lens as well as managing teams remotely. This training is designed to provide leaders with an action-oriented framework that increases both the quantity and quality of performance conversations by matching an individual’s readiness level for a specific task with the appropriate leadership style. \nIn this workshop\, participants will: \n\nLearn how to foster healthy working relationships with direct reports\, teams\, supervisors\, and colleagues particularly amidst the stressors of the current operating environment;\nAnalyze their own and staff members needs in terms of “readiness” to undertake and successfully accomplish tasks\nEstablish a process for creating working agreements\, setting and communicating expectations\, and providing and receiving effective feedback\nExplore the common pitfalls leading to miscommunication\nExamine why one technique does not work for every person; leadership style is driven by the situation\nImprove capacity to effectively supervise\, coach and mentor\n\nThis workshop is best suited for: \n\nNew supervisors\nAnyone who wants to improve their supervisory skills\n\nNOTE: This workshop should be taken prior to all other workshops for Leadership & Supervision Certificate enrollees. This workshop is also included in the Executive Leadership Certificate program. Attendance to all 3 webinars is required for certificate enrolled.  \nLearn more about our certificate programs! \nSchedule:\nSession 1: May 13\, 2025 @ 1 PM – 3 PM ET\nSession 2: May 20\, 2025 @ 1 PM – 3 PM ET\nSession 3: May 27\, 2025 @ 1 PM – 3 PM ET\nFacilitator:\n \nRodney Fuller is an Affiliate Consultant with the Support Center\, YRM Consulting and CadencePace Partners. He was formerly the CEO/President at several other organizations\, including Fresh Youth Initiatives in Washington Heights\, NY\, the Boys and Girls Club of Newark\, one of the largest Boys and Girls Clubs in the Country\, and an anchor institution in the city of Newark and the city’s largest after school provider. Of the 4\,500 Boys and Girls Clubhouses across the country\, the Boys and Girls Club of Newark was the only one to offer free in-house pediatric dental\, vision\, Health Care and behavioral health services to its Club members\, with their own in-house Physician\, Dentist and Licensed Clinical Social Worker\, addressing many of the root causes of the educational achievement gap and lack of school readiness: the destabilization of the family resulting from economic insecurity and inequality. As a reputed “Turn-around-artist\,” Mr. Fuller has the distinction of having led\, “Turned around” 10 non-profit organizations from the Executive Director/ CEO/President position. \nEmail wo*******@*****************ne.org with any questions! \n\n\nWe request that organizations limit their registrations to 5 participants per workshop. Please only register other people when you can provide the requested information for each participant; additional registrations under the same name will be removed. If you would like more than 5 employees from your organization to participate in this workshop\, please email wo*******@*****************ne.org.\n\n\n\n\n\n\n	Organization BudgetPrice\n\n\n\n\n	Under $200\,000 (or individual/Student)$115\n\n\n	$200\,000 to $1 Million (or Consultant)$200\n\n\n	$1 Million to $5 Million $255\n\n\n	Over $5 Million$275\n\n\n\n\n\n\nREGISTER HERE\n\n\n\nRegistration is required. Please be advised that by registering for this event\, unless we hear from you otherwise\, we will include you as part of our regular electronic mailing list. Please also be advised that the event may be recorded or photographed by Support Center for Nonprofit Management (Support Center). By enrolling for this event\, you hereby: (1) give consent for Support Center or any third parties to use your photograph or image in its print\, online and video publications; (2) release Support Center\, its employees\, and any outside third parties from all liabilities or claims that you might assert in connection with the above-described uses; and (3) waive any right to inspect\, approve or receive compensation for any materials or communications\, including photographs\, videotapes\, website images or written materials\, incorporating photos/images of you. To revoke this waiver\, please email wo*******@*****************ne.org.
URL:https://supportcenteronline.org/event/supervisory-essentials-managing-people-and-leading-teams-27/
LOCATION:WEBINAR
CATEGORIES:Webinar,Workshops & Events
END:VEVENT
BEGIN:VEVENT
DTSTART;TZID=America/New_York:20250528T130000
DTEND;TZID=America/New_York:20250528T150000
DTSTAMP:20260421T082955
CREATED:20250401T172948Z
LAST-MODIFIED:20250418T164838Z
UID:7431-1748437200-1748444400@supportcenteronline.org
SUMMARY:Visibility and Engagement Blueprint: Attracting & Keeping Your Participants
DESCRIPTION:Description:\nThis workshop will focus on strategies for enhancing program visibility\, encompassing all aspects of customer engagement. \nTopics will include: \n\nCustomer Recruitment: Effective methods to attract potential participants to your programs.\nOutreach: Techniques to reach and engage with your target audience through various channels\, including social media\, community events\, and partnerships.\nEnrollment: Streamlining the enrollment process to make it easy and accessible for participants to join your programs.\nRetention: Strategies to keep participants engaged and committed to your programs over the long term.\n\nBy the end of this workshop\, you will have a comprehensive understanding of how to boost your program’s visibility and effectively attract and retain participants. \nLearn more about our certificate programs! \nFacilitator:\n \nFor over two decades\, Tirza Barnes has made a significant impact in the nonprofit sector\, holding key leadership roles that include Senior Professional Development Trainer at the Brooklyn Educational Opportunity Center (BEOC)and the Grace Institute\, Director of Training at the Workforce Professionals Training Institute (WPTI)\, and Director of Training and Employee Development at Goodwill NY & NJ\, where she spearheaded training initiatives for over 8\,000 employees. During the pandemic\, Tirza took a leap of faith\, turning her long-held vision into reality by launching her own learning and development institute\, Tirza Motivates\, LLC. which she facilitates specialized peer learning programs\, each addressing key areas such as Conscious Caring Leadership\, empowerment\, and performance optimization. \nThroughout her career\, Tirza has worked with thousands of professionals as a trainer\, consultant\, and coach\, supporting organizational change initiatives that enhance program design and service delivery. She has also designed and led workshops on various topics\, including coaching and communication\, curriculum development\, public speaking\, leadership growth\, unconscious bias\, and conflict resolution. \n\n\nWe request that organizations limit their registrations to 5 participants per workshop. Please only register other people when you can provide the requested information for each participant; additional registrations under the same name will be removed. If you would like more than 5 employees from your organization to participate in this workshop\, please email wo*******@*****************ne.org\n\n\nREGISTER HERE\n \n\n\nRegistration is required. Please be advised that by registering for this event\, unless we hear from you otherwise\, we will include you as part of our regular electronic mailing list. Please also be advised that the event may be recorded or photographed by Support Center for Nonprofit Management (Support Center). By enrolling for this event\, you hereby: (1) give consent for Support Center or any third parties to use your photograph or image in its print\, online and video publications; (2) release Support Center\, its employees and any outside third parties from all liabilities or claims that you might assert in connection with the above-described uses; and (3) waive any right to inspect\, approve or receive compensation for any materials or communications\, including photographs\, videotapes\, website images or written materials\, incorporating photos/images of you. To revoke this waiver\, please email wo*******@*****************ne.org.
URL:https://supportcenteronline.org/event/visibility-and-engagement-blueprint-attracting-keeping-your-participants/
LOCATION:WEBINAR
CATEGORIES:Webinar,Workshops & Events
END:VEVENT
BEGIN:VEVENT
DTSTART;TZID=America/New_York:20250529T130000
DTEND;TZID=America/New_York:20250529T150000
DTSTAMP:20260421T082955
CREATED:20250417T175847Z
LAST-MODIFIED:20250505T203446Z
UID:7483-1748523600-1748530800@supportcenteronline.org
SUMMARY:Finding Your Diversified Funding Stream Success
DESCRIPTION:Description:\nReady to break free from the one-size-fits-all funding approach? \nIn this engaging 2-hour session\, we’ll explore a variety of funding channels—from grants to grassroots and more—and guide you in developing a personalized diversification strategy. Through an interactive case study\, you’ll witness firsthand how diversification can transform an organization’s financial health. Our down-to-earth\, practical approach ensures you’ll leave with actionable insights to broaden your funding horizons. Join us and discover the power of a well-rounded funding portfolio—sign up today and take the first step toward financial resilience! \nKey Learnings & Takeaways: \n\nFunding Source Intel: Discover the strengths and weaknesses of various funding streams—from grants to peer-to-peer campaigns to major gifts—and how they fit your mission.\nRisk Reduction: Understand how to reduce reliance on a single funding source and why diversification is a long-term sustainability strategy.\nA Plan in Hand: Leave with a simple but powerful roadmap to start identifying and pursuing new and diverse income sources for your organization.\n\nLearn more about our certificate programs! \nFacilitator:\n \nKerry Pereira Watterson has raised a half-billion dollars for social impact causes\, political campaigns\, and commercial ventures throughout his 25 year career in public service. Before founding Fundraising Well\, a certified LGBT Business Enterprise that strengthens and amplifies the impact and income of nonprofits and fundraising professionals around the world\, he held leadership roles at Year Up\, New York Civil Liberties Union\, Kaplan Inc.’s Educational Foundation\, and the University of Texas at Arlington.  Kerry is a Certified Fundraising Executive (CFRE)\, a BoardSource certified nonprofit board consultant\, and serves as Vice-Chair of the Board of Directors for A Call to Men. Kerry teaches Fundraising Models & Resource Development with University of California-Irvine\, and is a regular facilitator for the Support Center for Nonprofit Management’s executive training institutes. Kerry attended Texas Wesleyan University and University of Arizona earning two master’s degrees and received Mortar Board’s National Service Award for his work alongside Edie Windsor on the historic US Supreme Court Case\, United States v Windsor\, which brought about federal recognition of same sex marriages.  \n\n\nWe request that organizations limit their registrations to 5 participants per workshop. Please only register other people when you can provide the requested information for each participant; additional registrations under the same name will be removed. If you would like more than 5 employees from your organization to participate in this workshop\, please email wo*******@*****************ne.org\n\n\nREGISTER HERE\n \n\n\nRegistration is required. Please be advised that by registering for this event\, unless we hear from you otherwise\, we will include you as part of our regular electronic mailing list. Please also be advised that the event may be recorded or photographed by Support Center for Nonprofit Management (Support Center). By enrolling for this event\, you hereby: (1) give consent for Support Center or any third parties to use your photograph or image in its print\, online and video publications; (2) release Support Center\, its employees and any outside third parties from all liabilities or claims that you might assert in connection with the above-described uses; and (3) waive any right to inspect\, approve or receive compensation for any materials or communications\, including photographs\, videotapes\, website images or written materials\, incorporating photos/images of you. To revoke this waiver\, please email wo*******@*****************ne.org.
URL:https://supportcenteronline.org/event/finding-your-diversified-funding-stream-success/
LOCATION:WEBINAR
CATEGORIES:Webinar,Workshops & Events
END:VEVENT
END:VCALENDAR