BEGIN:VCALENDAR
VERSION:2.0
PRODID:-//Support Center - ECPv6.15.20//NONSGML v1.0//EN
CALSCALE:GREGORIAN
METHOD:PUBLISH
X-WR-CALNAME:Support Center
X-ORIGINAL-URL:https://supportcenteronline.org
X-WR-CALDESC:Events for Support Center
REFRESH-INTERVAL;VALUE=DURATION:PT1H
X-Robots-Tag:noindex
X-PUBLISHED-TTL:PT1H
BEGIN:VTIMEZONE
TZID:America/New_York
BEGIN:DAYLIGHT
TZOFFSETFROM:-0500
TZOFFSETTO:-0400
TZNAME:EDT
DTSTART:20230312T070000
END:DAYLIGHT
BEGIN:STANDARD
TZOFFSETFROM:-0400
TZOFFSETTO:-0500
TZNAME:EST
DTSTART:20231105T060000
END:STANDARD
BEGIN:DAYLIGHT
TZOFFSETFROM:-0500
TZOFFSETTO:-0400
TZNAME:EDT
DTSTART:20240310T070000
END:DAYLIGHT
BEGIN:STANDARD
TZOFFSETFROM:-0400
TZOFFSETTO:-0500
TZNAME:EST
DTSTART:20241103T060000
END:STANDARD
BEGIN:DAYLIGHT
TZOFFSETFROM:-0500
TZOFFSETTO:-0400
TZNAME:EDT
DTSTART:20250309T070000
END:DAYLIGHT
BEGIN:STANDARD
TZOFFSETFROM:-0400
TZOFFSETTO:-0500
TZNAME:EST
DTSTART:20251102T060000
END:STANDARD
END:VTIMEZONE
BEGIN:VEVENT
DTSTART;TZID=America/New_York:20241113T130000
DTEND;TZID=America/New_York:20241113T150000
DTSTAMP:20260425T102610
CREATED:20231020T181035Z
LAST-MODIFIED:20240718T175523Z
UID:6396-1731502800-1731510000@supportcenteronline.org
SUMMARY:Navigating and Evaluating Board Impact
DESCRIPTION:The ABC of Nonprofit Boards Series: \nDescription:\n\nThis highly interactive session will prepare you to participate in greater ways with your board\, your leaders\, and your staff with confidence and to deal effectively with those challenging\, often unpredictable situations that all board members may face. \nTopics covered: \n\nAssessing board performance & board evaluation\nBoard culture & dynamics\nHiring\, evaluating and managing your Executive Leader\nStrategic Planning\n\n\n\nWho should attend: \n\nNew board members\, executives and/or senior executives who expect to be on a board or participate during board led initiatives in the near future\nExperienced board members who are in need of a “refresher”\nStaff who wish to learn about governance and board practice\n\n\n\n\nJoin us for the entire series: \nSession 1: Basics of effective board membership – October 30\, 2024 @1 PM to 3 PM \nSession 2: Board Governance and Fiduciary Responsibility – November 6\, 2024 @1 PM to 3 PM \nSession 3: Navigating and evaluating board impact – November 13\, 2024 @1 PM to 3 PM \nLearn more about our certificate programs! \nFacilitator:\n \nRodney Fuller is an Affiliate Consultant with the Support Center\, YRM Consulting and CadencePace Partners. He was formerly the CEO/President at several other organizations\, including Fresh Youth Initiatives in Washington Heights\, NY\, the Boys and Girls Club of Newark\, one of the largest Boys and Girls Clubs in the Country\, and an anchor institution in the city of Newark and the city’s largest after school provider. Of the 4\,500 Boys and Girls Clubhouses across the country\, the Boys and Girls Club of Newark was the only one to offer free in-house pediatric dental\, vision\, Health Care and behavioral health services to its Club members\, with their own in-house Physician\, Dentist and Licensed Clinical Social Worker\, addressing many of the root causes of the educational achievement gap and lack of school readiness: the destabilization of the family resulting from economic insecurity and inequality. As a reputed “Turn-around-artist\,” Mr. Fuller has the distinction of having led\, “Turned around” 10 non-profit organizations from the Executive Director/ CEO/President position. \n\n\nWe request that organizations limit their registrations to 5 participants per workshop. Please only register other people when you can provide the requested information for each participant; additional registrations under the same name will be removed. If you would like more than 5 employees from your organization to participate in this workshop\, please email wo*******@*****************ne.org\n\n\nREGISTER HERE\n \n\n\nRegistration is required. Please be advised that by registering for this event\, unless we hear from you otherwise\, we will include you as part of our regular electronic mailing list. Please also be advised that the event may be recorded or photographed by Support Center for Nonprofit Management (Support Center). By enrolling for this event\, you hereby: (1) give consent for Support Center or any third parties to use your photograph or image in its print\, online and video publications; (2) release Support Center\, its employees and any outside third parties from all liabilities or claims that you might assert in connection with the above-described uses; and (3) waive any right to inspect\, approve or receive compensation for any materials or communications\, including photographs\, videotapes\, website images or written materials\, incorporating photos/images of you. To revoke this waiver\, please email wo*******@*****************ne.org.
URL:https://supportcenteronline.org/event/navigating-and-evaluating-board-impact/
LOCATION:WEBINAR
CATEGORIES:Webinar,Workshops & Events
END:VEVENT
END:VCALENDAR